BEGIN:VCALENDAR
VERSION:2.0
PRODID:-//RIDE Products - ECPv6.15.20//NONSGML v1.0//EN
CALSCALE:GREGORIAN
METHOD:PUBLISH
X-WR-CALNAME:RIDE Products
X-ORIGINAL-URL:https://rideproducts.store
X-WR-CALDESC:Events for RIDE Products
REFRESH-INTERVAL;VALUE=DURATION:PT1H
X-Robots-Tag:noindex
X-PUBLISHED-TTL:PT1H
BEGIN:VTIMEZONE
TZID:UTC
BEGIN:STANDARD
TZOFFSETFROM:+0000
TZOFFSETTO:+0000
TZNAME:UTC
DTSTART:20190101T000000
END:STANDARD
END:VTIMEZONE
BEGIN:VEVENT
DTSTART;TZID=UTC:20221130T080000
DTEND;TZID=UTC:20221202T170000
DTSTAMP:20260424T021132
CREATED:20161108T232216Z
LAST-MODIFIED:20220513T000137Z
UID:5718-1669795200-1670000400@rideproducts.store
SUMMARY:The Sent Ones of the City Conferences
DESCRIPTION:There are countless threats to the unity of the body (Colossians 3:6–9). Paul knows that brothers and sisters may have “complaints” against each other (Colossians 3:13). What does it look like to foster a community of forgiveness and love? \n \nPray for Faith\nThe Christian enduring persecution from his biological family needs to hear the dozens or hundreds in his spiritual family sing\, “Jesus\, I my cross have taken\, all to leave and follow Thee.” The believer struggling hard against shame needs to watch you exult\, “My sin\, not in part\, but the whole\, has been nailed to the cross\, and I bear it no more!” The saint overburdened by work\, striving\, and performance needs to listen as you affirm\, “We rest on Thee\, our shield.” \nGet Love to Love the Others\n1 Corinthians 13:4-8 Love is patient\, love is kind. It does not envy\, it does not boast\, it is not proud.  It is not rude\, it is not self-seeking\, it is not easily angered\, it keeps no record of wrongs.  Love does not delight in evil but rejoices with the truth.  It always protects\, always trusts\, always hopes\, always perseveres.  Love never fails. But where there are prophecies\, they will cease; where there are tongues\, they will be stilled; where there is knowledge\, it will pass away. \nJohn 3:16 “For God so loved the world that he gave his one and only Son\, that whoever believes in him shall not perish but have eternal life. \n1 John 3:16-18 This is how we know what love is: Jesus Christ laid down his life for us. And we ought to lay down our lives for our brothers. If anyone has material possessions and sees his brother in need but has no pity on him\, how can the love of God be in him? Dear children\, let us not love with words or tongue but with actions and in truth.
URL:https://rideproducts.store/event/the-sent-ones-of-the-city-conferences/
CATEGORIES:Candidates,Voting
ATTACH;FMTTYPE=image/jpeg:https://rideproducts.store/wp-content/uploads/2016/02/churchwp_media_-6.jpg
END:VEVENT
BEGIN:VEVENT
DTSTART;TZID=UTC:20220521T193000
DTEND;TZID=UTC:20220521T213000
DTSTAMP:20260424T021132
CREATED:20220516T031212Z
LAST-MODIFIED:20220516T125407Z
UID:7694-1653161400-1653168600@rideproducts.store
SUMMARY:Belo Horizonte
DESCRIPTION:Host a Daughters of Abraham in your Church or Community!\n \nDaughters of Abraham Conference – Belo Horizonte \nShould not the Daughters of Abraham be free from every sickness and disease?  Luke 13:11 “And behold\, there was a woman who had a spirit of infirmity eighteen years\, and was bent over and could in no way raise herself up.”  Perhaps you are struggling in areas of your life whereby no one can assist you. Remember the promises of Abraham through Jesus and allow Jesus to set you free by participating in Daughters of Abraham.  You can claim your freedom today by what Jesus has done of the cross for you.  \nGet Love to Love the Others\nPerhaps you have been bound for many years in a certain area of your life by Satan. Being a Daughter of Abraham by believing on Jesus birth\, death and resurrection you can benefits of being free from every sickness and disease.   Luke 13:16 . “So ought not this woman\, being a daughter of Abraham\, whom Satan has bound—think of it—for eighteen years\, be loosed from this bond on the Sabbath?” away. \n\n Luke 13:12 “But when Jesus saw her\, He called her to Him and said to her\, “Woman\, you are loosed from your infirmity.” \n\nLuke 13:13  “And He Laid His hands on her\, and immediately she was made straight\, and glorified God.”  It’s time to receive you healing  immediately in your body\, spirit and soul in Jesus Name. Allow Jesus to touch you today daughter and serve him for the rest of your life. 
URL:https://rideproducts.store/event/belo-horizonte/
ATTACH;FMTTYPE=image/jpeg:https://rideproducts.store/wp-content/uploads/2022/05/WhatsApp-Image-2022-05-12-at-11.27.00-AM.jpeg
END:VEVENT
BEGIN:VEVENT
DTSTART;VALUE=DATE:20220521
DTEND;VALUE=DATE:20221217
DTSTAMP:20260424T021132
CREATED:20220516T031213Z
LAST-MODIFIED:20220516T155107Z
UID:7696-1653091200-1671235199@rideproducts.store
SUMMARY:Uganda
DESCRIPTION:Host The Joseph Generation in your church or community \nThe Joseph Generation Conference Every 2nd Friday of each month through Direct Blessings! \nThe Christian enduring persecution from his biological family needs to hear the dozens or hundreds in his spiritual family sing\, “Jesus\, I my cross have taken\, all to leave and follow Thee.” The believer struggling hard against shame needs to watch you exult\, “My sin\, not in part\, but the whole\, has been nailed to the cross\, and I bear it no more!” The saint overburdened by work\, striving\, and performance needs to listen as you affirm\, “We rest on Thee\, our shield.” \nGet Love to Love the Others\n1 Corinthians 13:4-8 Love is patient\, love is kind. It does not envy\, it does not boast\, it is not proud.  It is not rude\, it is not self-seeking\, it is not easily angered\, it keeps no record of wrongs.  Love does not delight in evil but rejoices with the truth.  It always protects\, always trusts\, always hopes\, always perseveres.  Love never fails. But where there are prophecies\, they will cease; where there are tongues\, they will be stilled; where there is knowledge\, it will pass away. \n\nJohn 3:16 “For God so loved the world that he gave his one and only Son\, that whoever believes in him shall not perish but have eternal life. \n\n1 John 3:16-18 This is how we know what love is: Jesus Christ laid down his life for us. And we ought to lay down our lives for our brothers. If anyone has material possessions and sees his brother in need but has no pity on him\, how can the love of God be in him? Dear children\, let us not love with words or tongue but with actions and in truth.s
URL:https://rideproducts.store/event/uganda/
ATTACH;FMTTYPE=image/jpeg:https://rideproducts.store/wp-content/uploads/2022/05/WhatsApp-Image-2022-05-12-at-2.12.13-PM.jpeg
END:VEVENT
BEGIN:VEVENT
DTSTART;VALUE=DATE:20220521
DTEND;VALUE=DATE:20220522
DTSTAMP:20260424T021132
CREATED:20220516T031212Z
LAST-MODIFIED:20220519T112828Z
UID:7693-1653091200-1653177599@rideproducts.store
SUMMARY:Sao Paulo
DESCRIPTION:Host Daughters of Abraham in your Church or Community!\n \nDaughters of Abraham Conference – Sao Paulo\nShould not the Daughters of Abraham be free from every sickness and disease?  Luke 13:11 “And behold\, there was a woman who had a spirit of infirmity eighteen years\, and was bent over and could in no way raise herself up.”  Perhaps you are struggling in areas of your life whereby no one can assist you. Remember the promises of Abraham through Jesus and allow Jesus to set you free by participating in Daughters of Abraham.  You can claim your freedom today by what Jesus has done of the cross for you. \nGet Love to Love the Others\nPerhaps you have been bound for many years in a certain area of your life by Satan. Being a Daughter of Abraham by believing on Jesus birth\, death and resurrection you can benefits of being free from every sickness and disease.   Luke 13:16 . “So ought not this woman\, being a daughter of Abraham\, whom Satan has bound—think of it—for eighteen years\, be loosed from this bond on the Sabbath?” away. \n Luke 13:12 “But when Jesus saw her\, He called her to Him and said to her\, “Woman\, you are loosed from your infirmity.” \nLuke 13:13  “And He Laid His hands on her\, and immediately she was made straight\, and glorified God.”  It’s time to receive you healing  immediately in your body\, spirit and soul in Jesus Name. Allow Jesus to touch you today daughter and serve him for the rest of your life.
URL:https://rideproducts.store/event/sao-paulo/
ATTACH;FMTTYPE=image/jpeg:https://rideproducts.store/wp-content/uploads/2022/05/68ed6d01-3cbf-4216-bc87-5c48a4c6fafa.jpg
END:VEVENT
BEGIN:VEVENT
DTSTART;TZID=UTC:20220515T000000
DTEND;TZID=UTC:20221215T000000
DTSTAMP:20260424T021132
CREATED:20220516T031213Z
LAST-MODIFIED:20220516T135501Z
UID:7695-1652572800-1671062400@rideproducts.store
SUMMARY:Kenya
DESCRIPTION:Host The Joseph Generation in your church or community \nThe Joseph Generation Conference Every 2nd Sunday of each month through Direct Blessings! \nThe Christian enduring persecution from his biological family needs to hear the dozens or hundreds in his spiritual family sing\, “Jesus\, I my cross have taken\, all to leave and follow Thee.” The believer struggling hard against shame needs to watch you exult\, “My sin\, not in part\, but the whole\, has been nailed to the cross\, and I bear it no more!” The saint overburdened by work\, striving\, and performance needs to listen as you affirm\, “We rest on Thee\, our shield.” \nGet Love to Love the Others\n1 Corinthians 13:4-8 Love is patient\, love is kind. It does not envy\, it does not boast\, it is not proud.  It is not rude\, it is not self-seeking\, it is not easily angered\, it keeps no record of wrongs.  Love does not delight in evil but rejoices with the truth.  It always protects\, always trusts\, always hopes\, always perseveres.  Love never fails. But where there are prophecies\, they will cease; where there are tongues\, they will be stilled; where there is knowledge\, it will pass away. \n\nJohn 3:16 “For God so loved the world that he gave his one and only Son\, that whoever believes in him shall not perish but have eternal life. \n\n1 John 3:16-18 This is how we know what love is: Jesus Christ laid down his life for us. And we ought to lay down our lives for our brothers. If anyone has material possessions and sees his brother in need but has no pity on him\, how can the love of God be in him? Dear children\, let us not love with words or tongue but with actions and in truth.
URL:https://rideproducts.store/event/kenya/
ATTACH;FMTTYPE=image/jpeg:https://rideproducts.store/wp-content/uploads/2022/05/WhatsApp-Image-2022-05-08-at-1.00.18-PM.jpeg
END:VEVENT
BEGIN:VEVENT
DTSTART;TZID=UTC:20201230T080000
DTEND;TZID=UTC:20201230T080000
DTSTAMP:20260424T021132
CREATED:20161106T232018Z
LAST-MODIFIED:20161106T232018Z
UID:5598-1609315200-1609315200@rideproducts.store
SUMMARY:Celebrating God's Love
DESCRIPTION:There are countless threats to the unity of the body (Colossians 3:6–9). Paul knows that brothers and sisters may have “complaints” against each other (Colossians 3:13). What does it look like to foster a community of forgiveness and love? \n \nPray for Faith\nThe Christian enduring persecution from his biological family needs to hear the dozens or hundreds in his spiritual family sing\, “Jesus\, I my cross have taken\, all to leave and follow Thee.” The believer struggling hard against shame needs to watch you exult\, “My sin\, not in part\, but the whole\, has been nailed to the cross\, and I bear it no more!” The saint overburdened by work\, striving\, and performance needs to listen as you affirm\, “We rest on Thee\, our shield.” \nGet Love to Love the Others\n1 Corinthians 13:4-8 Love is patient\, love is kind. It does not envy\, it does not boast\, it is not proud.  It is not rude\, it is not self-seeking\, it is not easily angered\, it keeps no record of wrongs.  Love does not delight in evil but rejoices with the truth.  It always protects\, always trusts\, always hopes\, always perseveres.  Love never fails. But where there are prophecies\, they will cease; where there are tongues\, they will be stilled; where there is knowledge\, it will pass away. \nJohn 3:16 “For God so loved the world that he gave his one and only Son\, that whoever believes in him shall not perish but have eternal life. \n1 John 3:16-18 This is how we know what love is: Jesus Christ laid down his life for us. And we ought to lay down our lives for our brothers. If anyone has material possessions and sees his brother in need but has no pity on him\, how can the love of God be in him? Dear children\, let us not love with words or tongue but with actions and in truth.
URL:https://rideproducts.store/event/democratic-candidate-presentation/
LOCATION:Arizona\, Arlington Street\, A15 District\, Nevada\, AZ\, United States
CATEGORIES:Candidates,Presentations
ATTACH;FMTTYPE=image/jpeg:https://rideproducts.store/wp-content/uploads/2016/03/churchwp_media_-29.jpg
END:VEVENT
BEGIN:VEVENT
DTSTART;TZID=UTC:20200930T080000
DTEND;TZID=UTC:20201130T170000
DTSTAMP:20260424T021132
CREATED:20161108T232331Z
LAST-MODIFIED:20220512T235917Z
UID:5719-1601452800-1606755600@rideproducts.store
SUMMARY:The Daughters of Abraham Conferences
DESCRIPTION:There are countless threats to the unity of the body (Colossians 3:6–9). Paul knows that brothers and sisters may have “complaints” against each other (Colossians 3:13). What does it look like to foster a community of forgiveness and love? \n \nPray for Faith\nThe Christian enduring persecution from his biological family needs to hear the dozens or hundreds in his spiritual family sing\, “Jesus\, I my cross have taken\, all to leave and follow Thee.” The believer struggling hard against shame needs to watch you exult\, “My sin\, not in part\, but the whole\, has been nailed to the cross\, and I bear it no more!” The saint overburdened by work\, striving\, and performance needs to listen as you affirm\, “We rest on Thee\, our shield.” \nGet Love to Love the Others\n1 Corinthians 13:4-8 Love is patient\, love is kind. It does not envy\, it does not boast\, it is not proud.  It is not rude\, it is not self-seeking\, it is not easily angered\, it keeps no record of wrongs.  Love does not delight in evil but rejoices with the truth.  It always protects\, always trusts\, always hopes\, always perseveres.  Love never fails. But where there are prophecies\, they will cease; where there are tongues\, they will be stilled; where there is knowledge\, it will pass away. \nJohn 3:16 “For God so loved the world that he gave his one and only Son\, that whoever believes in him shall not perish but have eternal life. \n1 John 3:16-18 This is how we know what love is: Jesus Christ laid down his life for us. And we ought to lay down our lives for our brothers. If anyone has material possessions and sees his brother in need but has no pity on him\, how can the love of God be in him? Dear children\, let us not love with words or tongue but with actions and in truth.
URL:https://rideproducts.store/event/the-daughters-of-abraham-conferences/
CATEGORIES:Voting
ATTACH;FMTTYPE=image/jpeg:https://rideproducts.store/wp-content/uploads/2016/12/churchwp_media_-31.jpg
END:VEVENT
BEGIN:VEVENT
DTSTART;TZID=UTC:20200930T080000
DTEND;TZID=UTC:20200930T170000
DTSTAMP:20260424T021132
CREATED:20161108T231935Z
LAST-MODIFIED:20220513T000251Z
UID:5716-1601452800-1601485200@rideproducts.store
SUMMARY:The Joseph Generation Conferences
DESCRIPTION:There are countless threats to the unity of the body (Luca 3:6–9). Paul knows that brothers and sisters may have “complaints” against each other (Colossians 3:13). What does it look like to foster a community of forgiveness and love? \n \nPray for Faith\nThe Christian enduring persecution from his biological family needs to hear the dozens or hundreds in his spiritual family sing\, “Jesus\, I my cross have taken\, all to leave and follow Thee.” The believer struggling hard against shame needs to watch you exult\, “My sin\, not in part\, but the whole\, has been nailed to the cross\, and I bear it no more!” The saint overburdened by work\, striving\, and performance needs to listen as you affirm\, “We rest on Thee\, our shield.” \nGet Love to Love the Others\n1 Corinthians 13:4-8 Love is patient\, love is kind. It does not envy\, it does not boast\, it is not proud.  It is not rude\, it is not self-seeking\, it is not easily angered\, it keeps no record of wrongs.  Love does not delight in evil but rejoices with the truth.  It always protects\, always trusts\, always hopes\, always perseveres.  Love never fails. But where there are prophecies\, they will cease; where there are tongues\, they will be stilled; where there is knowledge\, it will pass away. \nJohn 3:16 “For God so loved the world that he gave his one and only Son\, that whoever believes in him shall not perish but have eternal life. \n1 John 3:16-18 This is how we know what love is: Jesus Christ laid down his life for us. And we ought to lay down our lives for our brothers. If anyone has material possessions and sees his brother in need but has no pity on him\, how can the love of God be in him? Dear children\, let us not love with words or tongue but with actions and in truth.
URL:https://rideproducts.store/event/the-joseph-generation-conferences/
CATEGORIES:Voting
ATTACH;FMTTYPE=image/jpeg:https://rideproducts.store/wp-content/uploads/2016/02/churchwp_media_-43.jpg
END:VEVENT
BEGIN:VEVENT
DTSTART;TZID=UTC:20200815T080000
DTEND;TZID=UTC:20200817T170000
DTSTAMP:20260424T021133
CREATED:20161108T232457Z
LAST-MODIFIED:20161108T232457Z
UID:5720-1597478400-1597683600@rideproducts.store
SUMMARY:Celebrating Family Together
DESCRIPTION:There are countless threats to the unity of the body (Colossians 3:6–9). Paul knows that brothers and sisters may have “complaints” against each other (Colossians 3:13). What does it look like to foster a community of forgiveness and love? \n \nPray for Faith\nThe Christian enduring persecution from his biological family needs to hear the dozens or hundreds in his spiritual family sing\, “Jesus\, I my cross have taken\, all to leave and follow Thee.” The believer struggling hard against shame needs to watch you exult\, “My sin\, not in part\, but the whole\, has been nailed to the cross\, and I bear it no more!” The saint overburdened by work\, striving\, and performance needs to listen as you affirm\, “We rest on Thee\, our shield.” \nGet Love to Love the Others\n1 Corinthians 13:4-8 Love is patient\, love is kind. It does not envy\, it does not boast\, it is not proud.  It is not rude\, it is not self-seeking\, it is not easily angered\, it keeps no record of wrongs.  Love does not delight in evil but rejoices with the truth.  It always protects\, always trusts\, always hopes\, always perseveres.  Love never fails. But where there are prophecies\, they will cease; where there are tongues\, they will be stilled; where there is knowledge\, it will pass away. \nJohn 3:16 “For God so loved the world that he gave his one and only Son\, that whoever believes in him shall not perish but have eternal life. \n1 John 3:16-18 This is how we know what love is: Jesus Christ laid down his life for us. And we ought to lay down our lives for our brothers. If anyone has material possessions and sees his brother in need but has no pity on him\, how can the love of God be in him? Dear children\, let us not love with words or tongue but with actions and in truth.
URL:https://rideproducts.store/event/first-day-as-senator/
CATEGORIES:Voting
ATTACH;FMTTYPE=image/jpeg:https://rideproducts.store/wp-content/uploads/2016/01/churchwp_media_-45_1.jpg
END:VEVENT
BEGIN:VEVENT
DTSTART;VALUE=DATE:20200801
DTEND;VALUE=DATE:20220831
DTSTAMP:20260424T021133
CREATED:20161108T232054Z
LAST-MODIFIED:20220512T235706Z
UID:5717-1596240000-1661903999@rideproducts.store
SUMMARY:Operation Joel
DESCRIPTION:There are countless threats to the unity of the body (John 3:6–9). Paul knows that brothers and sisters may have “complaints” against each other (Colossians 3:13). What does it look like to foster a community of forgiveness and love? \n \nPray for Faith\nThe Christian enduring persecution from his biological family needs to hear the dozens or hundreds in his spiritual family sing\, “Jesus\, I my cross have taken\, all to leave and follow Thee.” The believer struggling hard against shame needs to watch you exult\, “My sin\, not in part\, but the whole\, has been nailed to the cross\, and I bear it no more!” The saint overburdened by work\, striving\, and performance needs to listen as you affirm\, “We rest on Thee\, our shield.” \nGet Love to Love the Others\n1 Corinthians 13:4-8 Love is patient\, love is kind. It does not envy\, it does not boast\, it is not proud.  It is not rude\, it is not self-seeking\, it is not easily angered\, it keeps no record of wrongs.  Love does not delight in evil but rejoices with the truth.  It always protects\, always trusts\, always hopes\, always perseveres.  Love never fails. But where there are prophecies\, they will cease; where there are tongues\, they will be stilled; where there is knowledge\, it will pass away. \nJohn 3:16 “For God so loved the world that he gave his one and only Son\, that whoever believes in him shall not perish but have eternal life. \n1 John 3:16-18 This is how we know what love is: Jesus Christ laid down his life for us. And we ought to lay down our lives for our brothers. If anyone has material possessions and sees his brother in need but has no pity on him\, how can the love of God be in him? Dear children\, let us not love with words or tongue but with actions and in truth.
URL:https://rideproducts.store/event/operation-joel/
CATEGORIES:Candidates,Voting
ATTACH;FMTTYPE=image/jpeg:https://rideproducts.store/wp-content/uploads/2016/02/churchwp_media_-42.jpg
END:VEVENT
END:VCALENDAR